BEGIN:VCALENDAR
VERSION:2.0
PRODID:-//Utah Cycling Association - ECPv6.15.11//NONSGML v1.0//EN
CALSCALE:GREGORIAN
METHOD:PUBLISH
X-WR-CALNAME:Utah Cycling Association
X-ORIGINAL-URL:https://utahcycling.com
X-WR-CALDESC:Events for Utah Cycling Association
REFRESH-INTERVAL;VALUE=DURATION:PT1H
X-Robots-Tag:noindex
X-PUBLISHED-TTL:PT1H
BEGIN:VTIMEZONE
TZID:America/Denver
BEGIN:DAYLIGHT
TZOFFSETFROM:-0700
TZOFFSETTO:-0600
TZNAME:MDT
DTSTART:20250309T090000
END:DAYLIGHT
BEGIN:STANDARD
TZOFFSETFROM:-0600
TZOFFSETTO:-0700
TZNAME:MST
DTSTART:20251102T080000
END:STANDARD
BEGIN:DAYLIGHT
TZOFFSETFROM:-0700
TZOFFSETTO:-0600
TZNAME:MDT
DTSTART:20260308T090000
END:DAYLIGHT
BEGIN:STANDARD
TZOFFSETFROM:-0600
TZOFFSETTO:-0700
TZNAME:MST
DTSTART:20261101T080000
END:STANDARD
BEGIN:DAYLIGHT
TZOFFSETFROM:-0700
TZOFFSETTO:-0600
TZNAME:MDT
DTSTART:20270314T090000
END:DAYLIGHT
BEGIN:STANDARD
TZOFFSETFROM:-0600
TZOFFSETTO:-0700
TZNAME:MST
DTSTART:20271107T080000
END:STANDARD
END:VTIMEZONE
BEGIN:VEVENT
DTSTART;TZID=America/Denver:20260613T080000
DTEND;TZID=America/Denver:20260613T170000
DTSTAMP:20260425T094550
CREATED:20260425T033211Z
LAST-MODIFIED:20260425T033211Z
UID:2524-1781337600-1781370000@utahcycling.com
SUMMARY:Hunstman Sportsfest Ride
DESCRIPTION:https://hope.huntsmancancer.org/sportsfest26/
URL:https://utahcycling.com/event_calendar/hunstman-sportsfest-ride/
CATEGORIES:NO USAC Upgrade Points Available
END:VEVENT
BEGIN:VEVENT
DTSTART;TZID=America/Denver:20260718T080000
DTEND;TZID=America/Denver:20260718T170000
DTSTAMP:20260425T094550
CREATED:20260425T033018Z
LAST-MODIFIED:20260425T033018Z
UID:2522-1784361600-1784394000@utahcycling.com
SUMMARY:Eden Epic
DESCRIPTION:https://edenepic.com/ \n 
URL:https://utahcycling.com/event_calendar/eden-epic/
CATEGORIES:Mountain Bike Race,NO USAC Upgrade Points Available
END:VEVENT
END:VCALENDAR