BEGIN:VCALENDAR
VERSION:2.0
PRODID:-//Utah Cycling Association - ECPv6.15.11//NONSGML v1.0//EN
CALSCALE:GREGORIAN
METHOD:PUBLISH
X-ORIGINAL-URL:https://utahcycling.com
X-WR-CALDESC:Events for Utah Cycling Association
REFRESH-INTERVAL;VALUE=DURATION:PT1H
X-Robots-Tag:noindex
X-PUBLISHED-TTL:PT1H
BEGIN:VTIMEZONE
TZID:America/Denver
BEGIN:DAYLIGHT
TZOFFSETFROM:-0700
TZOFFSETTO:-0600
TZNAME:MDT
DTSTART:20250309T090000
END:DAYLIGHT
BEGIN:STANDARD
TZOFFSETFROM:-0600
TZOFFSETTO:-0700
TZNAME:MST
DTSTART:20251102T080000
END:STANDARD
BEGIN:DAYLIGHT
TZOFFSETFROM:-0700
TZOFFSETTO:-0600
TZNAME:MDT
DTSTART:20260308T090000
END:DAYLIGHT
BEGIN:STANDARD
TZOFFSETFROM:-0600
TZOFFSETTO:-0700
TZNAME:MST
DTSTART:20261101T080000
END:STANDARD
BEGIN:DAYLIGHT
TZOFFSETFROM:-0700
TZOFFSETTO:-0600
TZNAME:MDT
DTSTART:20270314T090000
END:DAYLIGHT
BEGIN:STANDARD
TZOFFSETFROM:-0600
TZOFFSETTO:-0700
TZNAME:MST
DTSTART:20271107T080000
END:STANDARD
END:VTIMEZONE
BEGIN:VEVENT
DTSTART;VALUE=DATE:20260613
DTEND;VALUE=DATE:20260614
DTSTAMP:20260424T043048
CREATED:20251116T153539Z
LAST-MODIFIED:20260223T191106Z
UID:2226-1781308800-1781395199@utahcycling.com
SUMMARY:Dirty Dino
DESCRIPTION:Register on BikeReg.com
URL:https://utahcycling.com/event_calendar/dirty-dino/
LOCATION:Vernal\, UT\, 2670 W 1000 N St\, Vernal\, UT\, 84078\, United States
CATEGORIES:Gravel Race
ORGANIZER;CN="Breanne Harward":MAILTO:breanne@utahgravelseries.com
END:VEVENT
END:VCALENDAR